BEGIN:VCALENDAR
VERSION:2.0
PRODID:-//Care 4 Needy Copts - ECPv6.15.20//NONSGML v1.0//EN
CALSCALE:GREGORIAN
METHOD:PUBLISH
X-WR-CALNAME:Care 4 Needy Copts
X-ORIGINAL-URL:https://care4needycopts.org
X-WR-CALDESC:Events for Care 4 Needy Copts
REFRESH-INTERVAL;VALUE=DURATION:PT1H
X-Robots-Tag:noindex
X-PUBLISHED-TTL:PT1H
BEGIN:VTIMEZONE
TZID:UTC
BEGIN:STANDARD
TZOFFSETFROM:+0000
TZOFFSETTO:+0000
TZNAME:UTC
DTSTART:20240101T000000
END:STANDARD
END:VTIMEZONE
BEGIN:VEVENT
DTSTART;TZID=UTC:20251012T080000
DTEND;TZID=UTC:20251018T170000
DTSTAMP:20260424T143213
CREATED:20250520T174836Z
LAST-MODIFIED:20250520T181346Z
UID:34103-1760256000-1760806800@care4needycopts.org
SUMMARY:Mission Trip to Egypt 2025
DESCRIPTION:“Serve & Be Blessed” Egypt Field Trip\nAre you ready for a life-changing experience?\nCare 4 Needy Copts invites you to join our 2025 Mission Trip to Egypt from October 12 to 18\, 2025!\nThis is your chance to serve\, connect\, and witness the impact of your generosity firsthand—all while exploring the rich spiritual and cultural heritage of Egypt. \nTrip Highlights:\n✅ Serve with Purpose: Visit and support needy families in Upper Egypt alongside our SML volunteers.\n✅ Spiritual Enrichment: Guided tours of ancient monasteries and churches.\n✅ Special Welcome at Misr Al-Mahaba Hospital: See how your donations transform lives.\n✅ Unforgettable Experiences: Enjoy a Nile cruise with dinner and comfortable van travel (with Wi-Fi!). \nTrip Cost: Only $700 per person (excludes airfare) \nThis all-inclusive cost covers accommodations\, meals\, transportation\, and activities—making it easier for you to focus on serving and being blessed! \n📅 Spaces are limited! Secure your spot today.\n📞 Call us at +1 (516) 464-9158\n📧 Email: info@care4needycopts.org
URL:https://care4needycopts.org/event/mission-trip-to-egypt-2025/
LOCATION:Upper Egypt\, Minya\, Minya\, 61511\, Egypt
CATEGORIES:mission trip
ATTACH;FMTTYPE=image/webp:https://care4needycopts.org/wp-content/uploads/2025/05/Mission-Trip-to-Egypt-2025-1.webp
ORGANIZER;CN="Care 4 Needy Copts":MAILTO:info@care4needycopts.org
END:VEVENT
END:VCALENDAR