BEGIN:VCALENDAR
VERSION:2.0
PRODID:-//Care 4 Needy Copts - ECPv6.15.20//NONSGML v1.0//EN
CALSCALE:GREGORIAN
METHOD:PUBLISH
X-ORIGINAL-URL:https://care4needycopts.org
X-WR-CALDESC:Events for Care 4 Needy Copts
REFRESH-INTERVAL;VALUE=DURATION:PT1H
X-Robots-Tag:noindex
X-PUBLISHED-TTL:PT1H
BEGIN:VTIMEZONE
TZID:UTC
BEGIN:STANDARD
TZOFFSETFROM:+0000
TZOFFSETTO:+0000
TZNAME:UTC
DTSTART:20230101T000000
END:STANDARD
END:VTIMEZONE
BEGIN:VEVENT
DTSTART;TZID=UTC:20240721T150000
DTEND;TZID=UTC:20240721T180000
DTSTAMP:20260421T114140
CREATED:20200428T132425Z
LAST-MODIFIED:20241126T194228Z
UID:23672-1721574000-1721584800@care4needycopts.org
SUMMARY:Seattle\, WA Event
DESCRIPTION:You are invited to join Care 4 Needy Copts Seattle gathering 2024 \nYou are cordially invited to meet the team of Care 4 Needy Copts. They are eager to personally express their heartfelt appreciation for your kind support
URL:https://care4needycopts.org/event/community-support-group/
LOCATION:Lynnwood Event Center\, 3711 196th St SW\, Lynnwood\, WA\, 98036\, United States
CATEGORIES:Awareness Event
ATTACH;FMTTYPE=image/webp:https://care4needycopts.org/wp-content/uploads/2020/04/Care-4-Needy-Copts-Seattle-event-at-Lynnwood-Event-Center.webp
ORGANIZER;CN="Care 4 Needy Copts":MAILTO:info@care4needycopts.org
END:VEVENT
END:VCALENDAR