BEGIN:VCALENDAR
VERSION:2.0
PRODID:-//Care 4 Needy Copts - ECPv6.15.20//NONSGML v1.0//EN
CALSCALE:GREGORIAN
METHOD:PUBLISH
X-WR-CALNAME:Care 4 Needy Copts
X-ORIGINAL-URL:https://care4needycopts.org
X-WR-CALDESC:Events for Care 4 Needy Copts
REFRESH-INTERVAL;VALUE=DURATION:PT1H
X-Robots-Tag:noindex
X-PUBLISHED-TTL:PT1H
BEGIN:VTIMEZONE
TZID:UTC
BEGIN:STANDARD
TZOFFSETFROM:+0000
TZOFFSETTO:+0000
TZNAME:UTC
DTSTART:20230101T000000
END:STANDARD
END:VTIMEZONE
BEGIN:VEVENT
DTSTART;TZID=UTC:20241109T180000
DTEND;TZID=UTC:20241109T220000
DTSTAMP:20260422T042736
CREATED:20220914T150932Z
LAST-MODIFIED:20250312T152321Z
UID:23167-1731175200-1731189600@care4needycopts.org
SUMMARY:Glendale\, CA Event - 2024
DESCRIPTION:Care 4 Needy Copts invites you to our event at Hilton Los Angeles North Glendale \nPlease join Care 4 Needy Copts at the upcoming event in Glendale\, CA\,  and learn how our services make a difference for our needy brothers and sisters in Egypt. Your presence means a lot to us and the community we serve.
URL:https://care4needycopts.org/event/holy-book-reading/
LOCATION:Hilton Los Angeles North/Glendale\, 100 W Glenoaks Blvd\, Glendale\, CA\, 91202\, United States
CATEGORIES:Support Families in need
ATTACH;FMTTYPE=image/webp:https://care4needycopts.org/wp-content/uploads/2022/09/Hilton-Los-Angeles-North-Glendale-event-2024.webp
ORGANIZER;CN="Care 4 Needy Copts":MAILTO:info@care4needycopts.org
END:VEVENT
END:VCALENDAR