BEGIN:VCALENDAR
VERSION:2.0
PRODID:-//Care 4 Needy Copts - ECPv6.15.20//NONSGML v1.0//EN
CALSCALE:GREGORIAN
METHOD:PUBLISH
X-WR-CALNAME:Care 4 Needy Copts
X-ORIGINAL-URL:https://care4needycopts.org
X-WR-CALDESC:Events for Care 4 Needy Copts
REFRESH-INTERVAL;VALUE=DURATION:PT1H
X-Robots-Tag:noindex
X-PUBLISHED-TTL:PT1H
BEGIN:VTIMEZONE
TZID:UTC
BEGIN:STANDARD
TZOFFSETFROM:+0000
TZOFFSETTO:+0000
TZNAME:UTC
DTSTART:20250101T000000
END:STANDARD
END:VTIMEZONE
BEGIN:VEVENT
DTSTART;TZID=UTC:20260502T120000
DTEND;TZID=UTC:20260502T153000
DTSTAMP:20260421T165427
CREATED:20260420T195639Z
LAST-MODIFIED:20260420T205044Z
UID:37460-1777723200-1777735800@care4needycopts.org
SUMMARY:Care 4 Needy Copts: Free Circus Tickets 2026 | New York
DESCRIPTION:WE ARE THRILLED TO ANNOUNCE THAT CIRCUS VAZQUEZ HAS PROVIDED C4NC WITH FREE TICKETS TO OUR UPCOMING EVENT ON:\n\nDate: MAY 2ND\, 2026\nTime: FROM 12:00 – 3:30 PM\nLocation: SMITH HAVEN MALL\, LAKE GROVE\, NY\n\nGather your family for fun & Give the gift of joy to our special needs kids this year.\n \nAny voluntary donations to support our 2026 Special Needs Retreat are greatly appreciated. As you prepare for a weekend that will surely bring a smile to your face\, your support ensures our friends with unique needs have a reason to smile\, too.\nTo watch this outstanding show\, please contact us\, and we will provide you with FREE TICKETS. \nGET YOUR TICKET NOW! CALL US: 516-464-9158\nUrgency Note: SEATS ARE LIMITED PLEASE RSVP ASAP
URL:https://care4needycopts.org/event/care-4-needy-copts-free-circus-tickets-2026-new-york/
LOCATION:Smith Haven Mall\, 313 Smith Haven Mall\, Lake Grove\, NY\, 11755\, United States
CATEGORIES:Events
ATTACH;FMTTYPE=image/webp:https://care4needycopts.org/wp-content/uploads/2026/04/website-cover-for-events-1920-x-1080-px.webp
ORGANIZER;CN="Care 4 Needy Copts":MAILTO:info@care4needycopts.org
END:VEVENT
END:VCALENDAR